Workbook
Name _R2: #REF!
Name _R2: #REF!
Name _R2: #REF!
Name A: #REF!
Name A: #REF!
Name A_impresión_IM: [2]porcino!$A$5:$L$22
Name A_impresión_IM: #REF!
Name A2_: #REF!
Name A2_: #REF!
Name A2_: #REF!
Name AA: #REF!
Name AA: #REF!
Name AnyoBase: [3]Configuracion!$H$13
Name AnyoInicial: [3]Configuracion!$H$12
Name Anyos: [3]Grafica!$C$44:$AS$44
Name B: #REF!
Name B: #REF!
Name B: #REF!
Name B2_: #REF!
Name B2_: #REF!
Name C.ind: #REF!
Name C.ind: #REF!
Name C_: #REF!
Name C_: #REF!
Name C_2: #REF!
Name C_2: #REF!
Name Codigos: '[3]B.1_CTE Original'!$A$8:$A$37
Name D: #REF!
Name D: #REF!
Name D: #REF!
Name D2_: #REF!
Name D2_: #REF!
Name DatosArima: [3]Grafica!$C$49:$AS$49
Name DatosBench: [3]Grafica!$C$48:$AS$48
Name DatosOriginal: [3]Grafica!$C$47:$AS$47
Name DatosTC: [3]Grafica!$C$50:$AS$50
Name DE: #REF!
Name DE: #REF!
Name DE: #REF!
Name E: #REF!
Name E: #REF!
Name E2_: #REF!
Name E2_: #REF!
Name ENM: #REF!
Name ENM: #REF!
Name ENM2_: #REF!
Name ENM2_: #REF!
Name F.ae: #REF!
Name F.ae: #REF!
Name F_: #REF!
Name F_: #REF!
Name F_2: #REF!
Name F_2: #REF!
Name F_UFP: #REF!
Name F_UFP: #REF!
Name Ffp: #REF!
Name Ffp: #REF!
Name FUFP: #REF!
Name FUFP: #REF!
Name FUFP2: #REF!

Sheet Contenido
C3: República de Panamá
C4: CONTRALORÍA GENERAL DE LA REPÚBLICA
C5: Instituto Nacional de Estadística y Censo
D6: VALOR BRUTO DE PRODUCCIÓN DEL SECTOR AGROPECUARIO, SEGÚN RAMA DE ACTIVIDAD ECONOMICA: AÑOS 2018-2025
C7: Tabla de contenido
C8: N.° cuadros | D8: Cuadros
C9: 1 | D9: Valor Bruto de Producción a precios constantes
C10: 2 | D10: Valor Bruto de Producción a precios corrientes
C11: 3 | D11: Tabla de datos
C12: 4 | D12: Diccionario

Sheet VBP encadenado
A1: Cuadro 1
A2: VALOR BRUTO DE PRODUCCIÓN DEL SECTOR AGROPECUARIO, A PRECIOS CONSTANTES EN LA REPÚBLICA, SEGÚN RAMA DE ACTIVIDAD ECONÓMICA:
A3: AÑOS 2018-25
A4: (En millones de balboas)
A6: Código | C6: Valor Bruto de Producción a precios básicos | K6: Variación porcentual
B7: Rama de actividad económica | C7: 2018 | D7: 2019 | E7: 2020 | F7: 2021 | G7: 2022 | H7: 2023 | I7: 2024 (P) | J7: 2025 (E) | K7: 2025-24
A8: A | B8: Agricultura, ganadería, caza, silvicultura, pesca y actividades de servicios conexas | C8: =+SUMIFS(Tabla!$F:$F,Tabla!$A:$A,C$7,Tabla!$D:$D,$A8,Tabla!$G:$G,"ENC",Tabla!$B:$B,"P00101",Tabla!$E:$E,"00") -> 2696.258 | D8: =+SUMIFS(Tabla!$F:$F,Tabla!$A:$A,D$7,Tabla!$D:$D,$A8,Tabla!$G:$G,"ENC",Tabla!$B:$B,"P00101",Tabla!$E:$E,"00") -> 2815.3681 | E8: 2867.5776 | F8: 3002.6958 | G8: 3099.4596 | H8: 3177.6217 | I8: 3399.4336 | J8: 3349.1239 | K8: =+J8/I8*100-100 -> -1.4799458
A9: 01.1 | B9: Cultivo de cereales, legumbres y semillas oleaginosas | C9: =+SUMIFS(Tabla!$F:$F,Tabla!$A:$A,C$7,Tabla!$C:$C,$A9,Tabla!$G:$G,"ENC",Tabla!$B:$B,"P00101",Tabla!$E:$E,"00") -> 21.188942 | D9: =+SUMIFS(Tabla!$F:$F,Tabla!$A:$A,D$7,Tabla!$C:$C,$A9,Tabla!$G:$G,"ENC",Tabla!$B:$B,"P00101",Tabla!$E:$E,"00") -> 19.662036 | E9: =+SUMIFS(Tabla!$F:$F,Tabla!$A:$A,E$7,Tabla!$C:$C,$A9,Tabla!$G:$G,"ENC",Tabla!$B:$B,"P00101",Tabla!$E:$E,"00") -> 16.099866 | F9: =+SUMIFS(Tabla!$F:$F,Tabla!$A:$A,F$7,Tabla!$C:$C,$A9,Tabla!$G:$G,"ENC",Tabla!$B:$B,"P00101",Tabla!$E:$E,"00") -> 18.328566 | G9: =+SUMIFS(Tabla!$F:$F,Tabla!$A:$A,G$7,Tabla!$C:$C,$A9,Tabla!$G:$G,"ENC",Tabla!$B:$B,"P00101",Tabla!$E:$E,"00") -> 17.776008 | H9: =+SUMIFS(Tabla!$F:$F,Tabla!$A:$A,H$7,Tabla!$C:$C,$A9,Tabla!$G:$G,"ENC",Tabla!$B:$B,"P00101",Tabla!$E:$E,"00") -> 20.445252 | I9: =+SUMIFS(Tabla!$F:$F,Tabla!$A:$A,I$7,Tabla!$C:$C,$A9,Tabla!$G:$G,"ENC",Tabla!$B:$B,"P00101",Tabla!$E:$E,"00") -> 20.449086 | J9: =+SUMIFS(Tabla!$F:$F,Tabla!$A:$A,J$7,Tabla!$C:$C,$A9,Tabla!$G:$G,"ENC",Tabla!$B:$B,"P00101",Tabla!$E:$E,"00") -> 23.029897 | K9: =+J9/I9*100-100 -> 12.620663
A10: 02.1 | B10: Cultivo de maíz | C10: =+SUMIFS(Tabla!$F:$F,Tabla!$A:$A,C$7,Tabla!$C:$C,$A10,Tabla!$G:$G,"ENC",Tabla!$B:$B,"P00101",Tabla!$E:$E,"00") -> 92.108985 | D10: =+SUMIFS(Tabla!$F:$F,Tabla!$A:$A,D$7,Tabla!$C:$C,$A10,Tabla!$G:$G,"ENC",Tabla!$B:$B,"P00101",Tabla!$E:$E,"00") -> 99.630988 | E10: =+SUMIFS(Tabla!$F:$F,Tabla!$A:$A,E$7,Tabla!$C:$C,$A10,Tabla!$G:$G,"ENC",Tabla!$B:$B,"P00101",Tabla!$E:$E,"00") -> 103.22733 | F10: =+SUMIFS(Tabla!$F:$F,Tabla!$A:$A,F$7,Tabla!$C:$C,$A10,Tabla!$G:$G,"ENC",Tabla!$B:$B,"P00101",Tabla!$E:$E,"00") -> 105.01867 | G10: =+SUMIFS(Tabla!$F:$F,Tabla!$A:$A,G$7,Tabla!$C:$C,$A10,Tabla!$G:$G,"ENC",Tabla!$B:$B,"P00101",Tabla!$E:$E,"00") -> 110.02397 | H10: =+SUMIFS(Tabla!$F:$F,Tabla!$A:$A,H$7,Tabla!$C:$C,$A10,Tabla!$G:$G,"ENC",Tabla!$B:$B,"P00101",Tabla!$E:$E,"00") -> 113.87562 | I10: =+SUMIFS(Tabla!$F:$F,Tabla!$A:$A,I$7,Tabla!$C:$C,$A10,Tabla!$G:$G,"ENC",Tabla!$B:$B,"P00101",Tabla!$E:$E,"00") -> 124.34218 | J10: =+SUMIFS(Tabla!$F:$F,Tabla!$A:$A,J$7,Tabla!$C:$C,$A10,Tabla!$G:$G,"ENC",Tabla!$B:$B,"P00101",Tabla!$E:$E,"00") -> 108.98035 | K10: =+J10/I10*100-100 -> -12.354482
A11: 03.1 | B11: Cultivo de arroz | C11: =+SUMIFS(Tabla!$F:$F,Tabla!$A:$A,C$7,Tabla!$C:$C,$A11,Tabla!$G:$G,"ENC",Tabla!$B:$B,"P00101",Tabla!$E:$E,"00") -> 193.33509 | D11: =+SUMIFS(Tabla!$F:$F,Tabla!$A:$A,D$7,Tabla!$C:$C,$A11,Tabla!$G:$G,"ENC",Tabla!$B:$B,"P00101",Tabla!$E:$E,"00") -> 204.90186 | E11: =+SUMIFS(Tabla!$F:$F,Tabla!$A:$A,E$7,Tabla!$C:$C,$A11,Tabla!$G:$G,"ENC",Tabla!$B:$B,"P00101",Tabla!$E:$E,"00") -> 214.67918 | F11: =+SUMIFS(Tabla!$F:$F,Tabla!$A:$A,F$7,Tabla!$C:$C,$A11,Tabla!$G:$G,"ENC",Tabla!$B:$B,"P00101",Tabla!$E:$E,"00") -> 222.77624 | G11: =+SUMIFS(Tabla!$F:$F,Tabla!$A:$A,G$7,Tabla!$C:$C,$A11,Tabla!$G:$G,"ENC",Tabla!$B:$B,"P00101",Tabla!$E:$E,"00") -> 234.12557 | H11: =+SUMIFS(Tabla!$F:$F,Tabla!$A:$A,H$7,Tabla!$C:$C,$A11,Tabla!$G:$G,"ENC",Tabla!$B:$B,"P00101",Tabla!$E:$E,"00") -> 243.16921 | I11: =+SUMIFS(Tabla!$F:$F,Tabla!$A:$A,I$7,Tabla!$C:$C,$A11,Tabla!$G:$G,"ENC",Tabla!$B:$B,"P00101",Tabla!$E:$E,"00") -> 240.34589 | J11: =+SUMIFS(Tabla!$F:$F,Tabla!$A:$A,J$7,Tabla!$C:$C,$A11,Tabla!$G:$G,"ENC",Tabla!$B:$B,"P00101",Tabla!$E:$E,"00") -> 236.7475 | K11: =+J11/I11*100-100 -> -1.4971717
A12: 04.1 | B12: Cultivo de vegetales, raíces y tubérculos | C12: =+SUMIFS(Tabla!$F:$F,Tabla!$A:$A,C$7,Tabla!$C:$C,$A12,Tabla!$G:$G,"ENC",Tabla!$B:$B,"P00101",Tabla!$E:$E,"00") -> 125.33849 | D12: =+SUMIFS(Tabla!$F:$F,Tabla!$A:$A,D$7,Tabla!$C:$C,$A12,Tabla!$G:$G,"ENC",Tabla!$B:$B,"P00101",Tabla!$E:$E,"00") -> 136.05303 | E12: =+SUMIFS(Tabla!$F:$F,Tabla!$A:$A,E$7,Tabla!$C:$C,$A12,Tabla!$G:$G,"ENC",Tabla!$B:$B,"P00101",Tabla!$E:$E,"00") -> 141.92056 | F12: =+SUMIFS(Tabla!$F:$F,Tabla!$A:$A,F$7,Tabla!$C:$C,$A12,Tabla!$G:$G,"ENC",Tabla!$B:$B,"P00101",Tabla!$E:$E,"00") -> 132.16747 | G12: =+SUMIFS(Tabla!$F:$F,Tabla!$A:$A,G$7,Tabla!$C:$C,$A12,Tabla!$G:$G,"ENC",Tabla!$B:$B,"P00101",Tabla!$E:$E,"00") -> 147.91794 | H12: =+SUMIFS(Tabla!$F:$F,Tabla!$A:$A,H$7,Tabla!$C:$C,$A12,Tabla!$G:$G,"ENC",Tabla!$B:$B,"P00101",Tabla!$E:$E,"00") -> 157.29613 | I12: =+SUMIFS(Tabla!$F:$F,Tabla!$A:$A,I$7,Tabla!$C:$C,$A12,Tabla!$G:$G,"ENC",Tabla!$B:$B,"P00101",Tabla!$E:$E,"00") -> 162.3242 | J12: =+SUMIFS(Tabla!$F:$F,Tabla!$A:$A,J$7,Tabla!$C:$C,$A12,Tabla!$G:$G,"ENC",Tabla!$B:$B,"P00101",Tabla!$E:$E,"00") -> 171.42312 | K12: =+J12/I12*100-100 -> 5.6053969
A13: 05.1 | B13: Cultivo de banano | C13: =+SUMIFS(Tabla!$F:$F,Tabla!$A:$A,C$7,Tabla!$C:$C,$A13,Tabla!$G:$G,"ENC",Tabla!$B:$B,"P00101",Tabla!$E:$E,"00") -> 188.48149 | D13: =+SUMIFS(Tabla!$F:$F,Tabla!$A:$A,D$7,Tabla!$C:$C,$A13,Tabla!$G:$G,"ENC",Tabla!$B:$B,"P00101",Tabla!$E:$E,"00") -> 316.98864 | E13: =+SUMIFS(Tabla!$F:$F,Tabla!$A:$A,E$7,Tabla!$C:$C,$A13,Tabla!$G:$G,"ENC",Tabla!$B:$B,"P00101",Tabla!$E:$E,"00") -> 352.68415 | F13: =+SUMIFS(Tabla!$F:$F,Tabla!$A:$A,F$7,Tabla!$C:$C,$A13,Tabla!$G:$G,"ENC",Tabla!$B:$B,"P00101",Tabla!$E:$E,"00") -> 337.71073 | G13: =+SUMIFS(Tabla!$F:$F,Tabla!$A:$A,G$7,Tabla!$C:$C,$A13,Tabla!$G:$G,"ENC",Tabla!$B:$B,"P00101",Tabla!$E:$E,"00") -> 296.0688 | H13: =+SUMIFS(Tabla!$F:$F,Tabla!$A:$A,H$7,Tabla!$C:$C,$A13,Tabla!$G:$G,"ENC",Tabla!$B:$B,"P00101",Tabla!$E:$E,"00") -> 319.25262 | I13: =+SUMIFS(Tabla!$F:$F,Tabla!$A:$A,I$7,Tabla!$C:$C,$A13,Tabla!$G:$G,"ENC",Tabla!$B:$B,"P00101",Tabla!$E:$E,"00") -> 346.4081 | J13: =+SUMIFS(Tabla!$F:$F,Tabla!$A:$A,J$7,Tabla!$C:$C,$A13,Tabla!$G:$G,"ENC",Tabla!$B:$B,"P00101",Tabla!$E:$E,"00") -> 239.2088 | K13: =+J13/I13*100-100 -> -30.945957
A14: 06.1 | B14: Cultivo de otras frutas y nueces | C14: =+SUMIFS(Tabla!$F:$F,Tabla!$A:$A,C$7,Tabla!$C:$C,$A14,Tabla!$G:$G,"ENC",Tabla!$B:$B,"P00101",Tabla!$E:$E,"00") -> 62.801648 | D14: =+SUMIFS(Tabla!$F:$F,Tabla!$A:$A,D$7,Tabla!$C:$C,$A14,Tabla!$G:$G,"ENC",Tabla!$B:$B,"P00101",Tabla!$E:$E,"00") -> 58.254059 | E14: =+SUMIFS(Tabla!$F:$F,Tabla!$A:$A,E$7,Tabla!$C:$C,$A14,Tabla!$G:$G,"ENC",Tabla!$B:$B,"P00101",Tabla!$E:$E,"00") -> 52.290305 | F14: =+SUMIFS(Tabla!$F:$F,Tabla!$A:$A,F$7,Tabla!$C:$C,$A14,Tabla!$G:$G,"ENC",Tabla!$B:$B,"P00101",Tabla!$E:$E,"00") -> 52.290305 | G14: =+SUMIFS(Tabla!$F:$F,Tabla!$A:$A,G$7,Tabla!$C:$C,$A14,Tabla!$G:$G,"ENC",Tabla!$B:$B,"P00101",Tabla!$E:$E,"00") -> 59.789318 | H14: =+SUMIFS(Tabla!$F:$F,Tabla!$A:$A,H$7,Tabla!$C:$C,$A14,Tabla!$G:$G,"ENC",Tabla!$B:$B,"P00101",Tabla!$E:$E,"00") -> 53.647156 | I14: =+SUMIFS(Tabla!$F:$F,Tabla!$A:$A,I$7,Tabla!$C:$C,$A14,Tabla!$G:$G,"ENC",Tabla!$B:$B,"P00101",Tabla!$E:$E,"00") -> 53.647156 | J14: =+SUMIFS(Tabla!$F:$F,Tabla!$A:$A,J$7,Tabla!$C:$C,$A14,Tabla!$G:$G,"ENC",Tabla!$B:$B,"P00101",Tabla!$E:$E,"00") -> 53.647156 | K14: =+J14/I14*100-100 -> 0
A15: 07.1 | B15: Otras actividades agrícolas | C15: =+SUMIFS(Tabla!$F:$F,Tabla!$A:$A,C$7,Tabla!$C:$C,$A15,Tabla!$G:$G,"ENC",Tabla!$B:$B,"P00101",Tabla!$E:$E,"00") -> 174.25096 | D15: =+SUMIFS(Tabla!$F:$F,Tabla!$A:$A,D$7,Tabla!$C:$C,$A15,Tabla!$G:$G,"ENC",Tabla!$B:$B,"P00101",Tabla!$E:$E,"00") -> 167.90631 | E15: =+SUMIFS(Tabla!$F:$F,Tabla!$A:$A,E$7,Tabla!$C:$C,$A15,Tabla!$G:$G,"ENC",Tabla!$B:$B,"P00101",Tabla!$E:$E,"00") -> 178.01011 | F15: =+SUMIFS(Tabla!$F:$F,Tabla!$A:$A,F$7,Tabla!$C:$C,$A15,Tabla!$G:$G,"ENC",Tabla!$B:$B,"P00101",Tabla!$E:$E,"00") -> 169.68895 | G15: =+SUMIFS(Tabla!$F:$F,Tabla!$A:$A,G$7,Tabla!$C:$C,$A15,Tabla!$G:$G,"ENC",Tabla!$B:$B,"P00101",Tabla!$E:$E,"00") -> 177.43892 | H15: =+SUMIFS(Tabla!$F:$F,Tabla!$A:$A,H$7,Tabla!$C:$C,$A15,Tabla!$G:$G,"ENC",Tabla!$B:$B,"P00101",Tabla!$E:$E,"00") -> 184.21165 | I15: =+SUMIFS(Tabla!$F:$F,Tabla!$A:$A,I$7,Tabla!$C:$C,$A15,Tabla!$G:$G,"ENC",Tabla!$B:$B,"P00101",Tabla!$E:$E,"00") -> 181.04101 | J15: =+SUMIFS(Tabla!$F:$F,Tabla!$A:$A,J$7,Tabla!$C:$C,$A15,Tabla!$G:$G,"ENC",Tabla!$B:$B,"P00101",Tabla!$E:$E,"00") -> 185.36684 | K15: =+J15/I15*100-100 -> 2.3894231
A16: 08.1 | B16: Cría de ganado bovino (excluye búfalo) | C16: =+SUMIFS(Tabla!$F:$F,Tabla!$A:$A,C$7,Tabla!$C:$C,$A16,Tabla!$G:$G,"ENC",Tabla!$B:$B,"P00101",Tabla!$E:$E,"00") -> 441.58492 | D16: =+SUMIFS(Tabla!$F:$F,Tabla!$A:$A,D$7,Tabla!$C:$C,$A16,Tabla!$G:$G,"ENC",Tabla!$B:$B,"P00101",Tabla!$E:$E,"00") -> 450.07236 | E16: =+SUMIFS(Tabla!$F:$F,Tabla!$A:$A,E$7,Tabla!$C:$C,$A16,Tabla!$G:$G,"ENC",Tabla!$B:$B,"P00101",Tabla!$E:$E,"00") -> 439.68163 | F16: =+SUMIFS(Tabla!$F:$F,Tabla!$A:$A,F$7,Tabla!$C:$C,$A16,Tabla!$G:$G,"ENC",Tabla!$B:$B,"P00101",Tabla!$E:$E,"00") -> 467.42904 | G16: =+SUMIFS(Tabla!$F:$F,Tabla!$A:$A,G$7,Tabla!$C:$C,$A16,Tabla!$G:$G,"ENC",Tabla!$B:$B,"P00101",Tabla!$E:$E,"00") -> 477.17498 | H16: =+SUMIFS(Tabla!$F:$F,Tabla!$A:$A,H$7,Tabla!$C:$C,$A16,Tabla!$G:$G,"ENC",Tabla!$B:$B,"P00101",Tabla!$E:$E,"00") -> 455.30217 | I16: =+SUMIFS(Tabla!$F:$F,Tabla!$A:$A,I$7,Tabla!$C:$C,$A16,Tabla!$G:$G,"ENC",Tabla!$B:$B,"P00101",Tabla!$E:$E,"00") -> 445.52524 | J16: =+SUMIFS(Tabla!$F:$F,Tabla!$A:$A,J$7,Tabla!$C:$C,$A16,Tabla!$G:$G,"ENC",Tabla!$B:$B,"P00101",Tabla!$E:$E,"00") -> 445.12964 | K16: =+J16/I16*100-100 -> -0.088793934
A17: 08.2 | B17: Cría de ganado porcino | C17: =+SUMIFS(Tabla!$F:$F,Tabla!$A:$A,C$7,Tabla!$C:$C,$A17,Tabla!$G:$G,"ENC",Tabla!$B:$B,"P00101",Tabla!$E:$E,"00") -> 270.08323 | D17: =+SUMIFS(Tabla!$F:$F,Tabla!$A:$A,D$7,Tabla!$C:$C,$A17,Tabla!$G:$G,"ENC",Tabla!$B:$B,"P00101",Tabla!$E:$E,"00") -> 245.03825 | E17: =+SUMIFS(Tabla!$F:$F,Tabla!$A:$A,E$7,Tabla!$C:$C,$A17,Tabla!$G:$G,"ENC",Tabla!$B:$B,"P00101",Tabla!$E:$E,"00") -> 253.83829 | F17: =+SUMIFS(Tabla!$F:$F,Tabla!$A:$A,F$7,Tabla!$C:$C,$A17,Tabla!$G:$G,"ENC",Tabla!$B:$B,"P00101",Tabla!$E:$E,"00") -> 286.72041 | G17: =+SUMIFS(Tabla!$F:$F,Tabla!$A:$A,G$7,Tabla!$C:$C,$A17,Tabla!$G:$G,"ENC",Tabla!$B:$B,"P00101",Tabla!$E:$E,"00") -> 308.8508 | H17: =+SUMIFS(Tabla!$F:$F,Tabla!$A:$A,H$7,Tabla!$C:$C,$A17,Tabla!$G:$G,"ENC",Tabla!$B:$B,"P00101",Tabla!$E:$E,"00") -> 311.95787 | I17: =+SUMIFS(Tabla!$F:$F,Tabla!$A:$A,I$7,Tabla!$C:$C,$A17,Tabla!$G:$G,"ENC",Tabla!$B:$B,"P00101",Tabla!$E:$E,"00") -> 296.28206 | J17: =+SUMIFS(Tabla!$F:$F,Tabla!$A:$A,J$7,Tabla!$C:$C,$A17,Tabla!$G:$G,"ENC",Tabla!$B:$B,"P00101",Tabla!$E:$E,"00") -> 311.89453 | K17: =+J17/I17*100-100 -> 5.2694602
A18: 08.3 | B18: Cría de aves de corral | C18: =+SUMIFS(Tabla!$F:$F,Tabla!$A:$A,C$7,Tabla!$C:$C,$A18,Tabla!$G:$G,"ENC",Tabla!$B:$B,"P00101",Tabla!$E:$E,"00") -> 522.58283 | D18: =+SUMIFS(Tabla!$F:$F,Tabla!$A:$A,D$7,Tabla!$C:$C,$A18,Tabla!$G:$G,"ENC",Tabla!$B:$B,"P00101",Tabla!$E:$E,"00") -> 523.90984 | E18: =+SUMIFS(Tabla!$F:$F,Tabla!$A:$A,E$7,Tabla!$C:$C,$A18,Tabla!$G:$G,"ENC",Tabla!$B:$B,"P00101",Tabla!$E:$E,"00") -> 500.14902 | F18: =+SUMIFS(Tabla!$F:$F,Tabla!$A:$A,F$7,Tabla!$C:$C,$A18,Tabla!$G:$G,"ENC",Tabla!$B:$B,"P00101",Tabla!$E:$E,"00") -> 524.56934 | G18: =+SUMIFS(Tabla!$F:$F,Tabla!$A:$A,G$7,Tabla!$C:$C,$A18,Tabla!$G:$G,"ENC",Tabla!$B:$B,"P00101",Tabla!$E:$E,"00") -> 536.93212 | H18: =+SUMIFS(Tabla!$F:$F,Tabla!$A:$A,H$7,Tabla!$C:$C,$A18,Tabla!$G:$G,"ENC",Tabla!$B:$B,"P00101",Tabla!$E:$E,"00") -> 516.19939 | I18: =+SUMIFS(Tabla!$F:$F,Tabla!$A:$A,I$7,Tabla!$C:$C,$A18,Tabla!$G:$G,"ENC",Tabla!$B:$B,"P00101",Tabla!$E:$E,"00") -> 534.08648 | J18: =+SUMIFS(Tabla!$F:$F,Tabla!$A:$A,J$7,Tabla!$C:$C,$A18,Tabla!$G:$G,"ENC",Tabla!$B:$B,"P00101",Tabla!$E:$E,"00") -> 551.1925 | K18: =+J18/I18*100-100 -> 3.2028555
B19: Aves de corral | C19: =+SUMIFS(Tabla!$F:$F,Tabla!$A:$A,C7,Tabla!$G:$G,"ENC",Tabla!$B:$B,"P00101",Tabla!$E:$E,"1203",Tabla!$C:$C,"08.3") -> 437.14732 | D19: =+SUMIFS(Tabla!$F:$F,Tabla!$A:$A,D7,Tabla!$G:$G,"ENC",Tabla!$B:$B,"P00101",Tabla!$E:$E,"1203",Tabla!$C:$C,"08.3") -> 436.54256 | E19: =+SUMIFS(Tabla!$F:$F,Tabla!$A:$A,E7,Tabla!$G:$G,"ENC",Tabla!$B:$B,"P00101",Tabla!$E:$E,"1203",Tabla!$C:$C,"08.3") -> 405.2564 | F19: =+SUMIFS(Tabla!$F:$F,Tabla!$A:$A,F7,Tabla!$G:$G,"ENC",Tabla!$B:$B,"P00101",Tabla!$E:$E,"1203",Tabla!$C:$C,"08.3") -> 433.30812 | G19: =+SUMIFS(Tabla!$F:$F,Tabla!$A:$A,G7,Tabla!$G:$G,"ENC",Tabla!$B:$B,"P00101",Tabla!$E:$E,"1203",Tabla!$C:$C,"08.3") -> 443.59108 | H19: =+SUMIFS(Tabla!$F:$F,Tabla!$A:$A,H7,Tabla!$G:$G,"ENC",Tabla!$B:$B,"P00101",Tabla!$E:$E,"1203",Tabla!$C:$C,"08.3") -> 420.07281 | I19: =+SUMIFS(Tabla!$F:$F,Tabla!$A:$A,I7,Tabla!$G:$G,"ENC",Tabla!$B:$B,"P00101",Tabla!$E:$E,"1203",Tabla!$C:$C,"08.3") -> 437.4776 | J19: =+SUMIFS(Tabla!$F:$F,Tabla!$A:$A,J7,Tabla!$G:$G,"ENC",Tabla!$B:$B,"P00101",Tabla!$E:$E,"1203",Tabla!$C:$C,"08.3") -> 451.03015 | K19: =+J19/I19*100-100 -> 3.0978836
B20: Huevos | C20: =+SUMIFS(Tabla!$F:$F,Tabla!$A:$A,C7,Tabla!$G:$G,"ENC",Tabla!$B:$B,"P00101",Tabla!$E:$E,"1302",Tabla!$C:$C,"08.3") -> 85.435505 | D20: =+SUMIFS(Tabla!$F:$F,Tabla!$A:$A,D7,Tabla!$G:$G,"ENC",Tabla!$B:$B,"P00101",Tabla!$E:$E,"1302",Tabla!$C:$C,"08.3") -> 87.367278 | E20: =+SUMIFS(Tabla!$F:$F,Tabla!$A:$A,E7,Tabla!$G:$G,"ENC",Tabla!$B:$B,"P00101",Tabla!$E:$E,"1302",Tabla!$C:$C,"08.3") -> 94.145693 | F20: =+SUMIFS(Tabla!$F:$F,Tabla!$A:$A,F7,Tabla!$G:$G,"ENC",Tabla!$B:$B,"P00101",Tabla!$E:$E,"1302",Tabla!$C:$C,"08.3") -> 91.485646 | G20: =+SUMIFS(Tabla!$F:$F,Tabla!$A:$A,G7,Tabla!$G:$G,"ENC",Tabla!$B:$B,"P00101",Tabla!$E:$E,"1302",Tabla!$C:$C,"08.3") -> 93.569475 | H20: =+SUMIFS(Tabla!$F:$F,Tabla!$A:$A,H7,Tabla!$G:$G,"ENC",Tabla!$B:$B,"P00101",Tabla!$E:$E,"1302",Tabla!$C:$C,"08.3") -> 96.223742 | I20: =+SUMIFS(Tabla!$F:$F,Tabla!$A:$A,I7,Tabla!$G:$G,"ENC",Tabla!$B:$B,"P00101",Tabla!$E:$E,"1302",Tabla!$C:$C,"08.3") -> 96.705705 | J20: =+SUMIFS(Tabla!$F:$F,Tabla!$A:$A,J7,Tabla!$G:$G,"ENC",Tabla!$B:$B,"P00101",Tabla!$E:$E,"1302",Tabla!$C:$C,"08.3") -> 100.24467 | K20: =+J20/I20*100-100 -> 3.6595209
A21: 08.4 | B21: Cría de otros animales y obtención de subproductos | C21: =+SUMIFS(Tabla!$F:$F,Tabla!$A:$A,C$7,Tabla!$C:$C,$A21,Tabla!$G:$G,"ENC",Tabla!$B:$B,"P00101",Tabla!$E:$E,"00") -> 9.7198153 | D21: =+SUMIFS(Tabla!$F:$F,Tabla!$A:$A,D$7,Tabla!$C:$C,$A21,Tabla!$G:$G,"ENC",Tabla!$B:$B,"P00101",Tabla!$E:$E,"00") -> 10.063834 | E21: =+SUMIFS(Tabla!$F:$F,Tabla!$A:$A,E$7,Tabla!$C:$C,$A21,Tabla!$G:$G,"ENC",Tabla!$B:$B,"P00101",Tabla!$E:$E,"00") -> 9.771524 | F21: =+SUMIFS(Tabla!$F:$F,Tabla!$A:$A,F$7,Tabla!$C:$C,$A21,Tabla!$G:$G,"ENC",Tabla!$B:$B,"P00101",Tabla!$E:$E,"00") -> 10.178004 | G21: =+SUMIFS(Tabla!$F:$F,Tabla!$A:$A,G$7,Tabla!$C:$C,$A21,Tabla!$G:$G,"ENC",Tabla!$B:$B,"P00101",Tabla!$E:$E,"00") -> 10.294094 | H21: =+SUMIFS(Tabla!$F:$F,Tabla!$A:$A,H$7,Tabla!$C:$C,$A21,Tabla!$G:$G,"ENC",Tabla!$B:$B,"P00101",Tabla!$E:$E,"00") -> 9.9309059 | I21: =+SUMIFS(Tabla!$F:$F,Tabla!$A:$A,I$7,Tabla!$C:$C,$A21,Tabla!$G:$G,"ENC",Tabla!$B:$B,"P00101",Tabla!$E:$E,"00") -> 9.6004761 | J21: =+SUMIFS(Tabla!$F:$F,Tabla!$A:$A,J$7,Tabla!$C:$C,$A21,Tabla!$G:$G,"ENC",Tabla!$B:$B,"P00101",Tabla!$E:$E,"00") -> 9.7335225 | K21: =+J21/I21*100-100 -> 1.3858316
A22: 09.1 | B22: Actividades de apoyo agropecuario | C22: =+SUMIFS(Tabla!$F:$F,Tabla!$A:$A,C$7,Tabla!$C:$C,$A22,Tabla!$G:$G,"ENC",Tabla!$B:$B,"P00101",Tabla!$E:$E,"00") -> 54.282298 | D22: =+SUMIFS(Tabla!$F:$F,Tabla!$A:$A,D$7,Tabla!$C:$C,$A22,Tabla!$G:$G,"ENC",Tabla!$B:$B,"P00101",Tabla!$E:$E,"00") -> 50.01606 | E22: =+SUMIFS(Tabla!$F:$F,Tabla!$A:$A,E$7,Tabla!$C:$C,$A22,Tabla!$G:$G,"ENC",Tabla!$B:$B,"P00101",Tabla!$E:$E,"00") -> 51.902518 | F22: =+SUMIFS(Tabla!$F:$F,Tabla!$A:$A,F$7,Tabla!$C:$C,$A22,Tabla!$G:$G,"ENC",Tabla!$B:$B,"P00101",Tabla!$E:$E,"00") -> 51.902518 | G22: =+SUMIFS(Tabla!$F:$F,Tabla!$A:$A,G$7,Tabla!$C:$C,$A22,Tabla!$G:$G,"ENC",Tabla!$B:$B,"P00101",Tabla!$E:$E,"00") -> 49.933694 | H22: =+SUMIFS(Tabla!$F:$F,Tabla!$A:$A,H$7,Tabla!$C:$C,$A22,Tabla!$G:$G,"ENC",Tabla!$B:$B,"P00101",Tabla!$E:$E,"00") -> 48.039553 | I22: =+SUMIFS(Tabla!$F:$F,Tabla!$A:$A,I$7,Tabla!$C:$C,$A22,Tabla!$G:$G,"ENC",Tabla!$B:$B,"P00101",Tabla!$E:$E,"00") -> 49.468914 | J22: =+SUMIFS(Tabla!$F:$F,Tabla!$A:$A,J$7,Tabla!$C:$C,$A22,Tabla!$G:$G,"ENC",Tabla!$B:$B,"P00101",Tabla!$E:$E,"00") -> 50.534072 | K22: =+J22/I22*100-100 -> 2.1531865
A23: 10.1 | B23: Silvicultura, extracción de madera y actividades conexas | C23: =+SUMIFS(Tabla!$F:$F,Tabla!$A:$A,C$7,Tabla!$C:$C,$A23,Tabla!$G:$G,"ENC",Tabla!$B:$B,"P00101",Tabla!$E:$E,"00") -> 139.19802 | D23: =+SUMIFS(Tabla!$F:$F,Tabla!$A:$A,D$7,Tabla!$C:$C,$A23,Tabla!$G:$G,"ENC",Tabla!$B:$B,"P00101",Tabla!$E:$E,"00") -> 135.27067 | E23: =+SUMIFS(Tabla!$F:$F,Tabla!$A:$A,E$7,Tabla!$C:$C,$A23,Tabla!$G:$G,"ENC",Tabla!$B:$B,"P00101",Tabla!$E:$E,"00") -> 134.86898 | F23: =+SUMIFS(Tabla!$F:$F,Tabla!$A:$A,F$7,Tabla!$C:$C,$A23,Tabla!$G:$G,"ENC",Tabla!$B:$B,"P00101",Tabla!$E:$E,"00") -> 139.2741 | G23: =+SUMIFS(Tabla!$F:$F,Tabla!$A:$A,G$7,Tabla!$C:$C,$A23,Tabla!$G:$G,"ENC",Tabla!$B:$B,"P00101",Tabla!$E:$E,"00") -> 138.27946 | H23: =+SUMIFS(Tabla!$F:$F,Tabla!$A:$A,H$7,Tabla!$C:$C,$A23,Tabla!$G:$G,"ENC",Tabla!$B:$B,"P00101",Tabla!$E:$E,"00") -> 138.45248 | I23: =+SUMIFS(Tabla!$F:$F,Tabla!$A:$A,I$7,Tabla!$C:$C,$A23,Tabla!$G:$G,"ENC",Tabla!$B:$B,"P00101",Tabla!$E:$E,"00") -> 141.27114 | J23: =+SUMIFS(Tabla!$F:$F,Tabla!$A:$A,J$7,Tabla!$C:$C,$A23,Tabla!$G:$G,"ENC",Tabla!$B:$B,"P00101",Tabla!$E:$E,"00") -> 142.41671 | K23: =+J23/I23*100-100 -> 0.81089823
A24: 11.1 | B24: Pesca | C24: =+SUMIFS(Tabla!$F:$F,Tabla!$A:$A,C$7,Tabla!$C:$C,$A24,Tabla!$G:$G,"ENC",Tabla!$B:$B,"P00101",Tabla!$E:$E,"00") -> 291.05754 | D24: =+SUMIFS(Tabla!$F:$F,Tabla!$A:$A,D$7,Tabla!$C:$C,$A24,Tabla!$G:$G,"ENC",Tabla!$B:$B,"P00101",Tabla!$E:$E,"00") -> 284.48641 | E24: =+SUMIFS(Tabla!$F:$F,Tabla!$A:$A,E$7,Tabla!$C:$C,$A24,Tabla!$G:$G,"ENC",Tabla!$B:$B,"P00101",Tabla!$E:$E,"00") -> 308.59536 | F24: =+SUMIFS(Tabla!$F:$F,Tabla!$A:$A,F$7,Tabla!$C:$C,$A24,Tabla!$G:$G,"ENC",Tabla!$B:$B,"P00101",Tabla!$E:$E,"00") -> 327.89702 | G24: =+SUMIFS(Tabla!$F:$F,Tabla!$A:$A,G$7,Tabla!$C:$C,$A24,Tabla!$G:$G,"ENC",Tabla!$B:$B,"P00101",Tabla!$E:$E,"00") -> 276.79316 | H24: =+SUMIFS(Tabla!$F:$F,Tabla!$A:$A,H$7,Tabla!$C:$C,$A24,Tabla!$G:$G,"ENC",Tabla!$B:$B,"P00101",Tabla!$E:$E,"00") -> 334.67211 | I24: =+SUMIFS(Tabla!$F:$F,Tabla!$A:$A,I$7,Tabla!$C:$C,$A24,Tabla!$G:$G,"ENC",Tabla!$B:$B,"P00101",Tabla!$E:$E,"00") -> 389.57704 | J24: =+SUMIFS(Tabla!$F:$F,Tabla!$A:$A,J$7,Tabla!$C:$C,$A24,Tabla!$G:$G,"ENC",Tabla!$B:$B,"P00101",Tabla!$E:$E,"00") -> 355.37678 | K24: =+J24/I24*100-100 -> -8.7788174
A25: 12.1 | B25: Acuicultura | C25: =+SUMIFS(Tabla!$F:$F,Tabla!$A:$A,C$7,Tabla!$C:$C,$A25,Tabla!$G:$G,"ENC",Tabla!$B:$B,"P00101",Tabla!$E:$E,"00") -> 110.24373 | D25: =+SUMIFS(Tabla!$F:$F,Tabla!$A:$A,D$7,Tabla!$C:$C,$A25,Tabla!$G:$G,"ENC",Tabla!$B:$B,"P00101",Tabla!$E:$E,"00") -> 113.11375 | E25: =+SUMIFS(Tabla!$F:$F,Tabla!$A:$A,E$7,Tabla!$C:$C,$A25,Tabla!$G:$G,"ENC",Tabla!$B:$B,"P00101",Tabla!$E:$E,"00") -> 114.84153 | F25: =+SUMIFS(Tabla!$F:$F,Tabla!$A:$A,F$7,Tabla!$C:$C,$A25,Tabla!$G:$G,"ENC",Tabla!$B:$B,"P00101",Tabla!$E:$E,"00") -> 152.03348 | G25: =+SUMIFS(Tabla!$F:$F,Tabla!$A:$A,G$7,Tabla!$C:$C,$A25,Tabla!$G:$G,"ENC",Tabla!$B:$B,"P00101",Tabla!$E:$E,"00") -> 234.45361 | H25: =+SUMIFS(Tabla!$F:$F,Tabla!$A:$A,H$7,Tabla!$C:$C,$A25,Tabla!$G:$G,"ENC",Tabla!$B:$B,"P00101",Tabla!$E:$E,"00") -> 244.3284 | I25: =+SUMIFS(Tabla!$F:$F,Tabla!$A:$A,I$7,Tabla!$C:$C,$A25,Tabla!$G:$G,"ENC",Tabla!$B:$B,"P00101",Tabla!$E:$E,"00") -> 370.26458 | J25: =+SUMIFS(Tabla!$F:$F,Tabla!$A:$A,J$7,Tabla!$C:$C,$A25,Tabla!$G:$G,"ENC",Tabla!$B:$B,"P00101",Tabla!$E:$E,"00") -> 414.49959 | K25: =+J25/I25*100-100 -> 11.946866
A26: NOTA: A precios básicos, en medidas de volumen encadenadas, con año de referencia 2018.
A27: La discrepancia entre el total y la suma de sus componentes se debe a la diferencia estadística que proviene de utilizar estructuras de precios base móvil, de
A28: conformidad con la metodología sugerida en el Sistema de Cuentas Nacionales 2008 (SCN08).
A29: (P) Cifras preliminares.
A30: (E) Cifras estimadas.

Sheet VBP a precios corrientes
A1: Cuadro 2
A2: VALOR BRUTO DE PRODUCCIÓN DEL SECTOR AGROPECUARIO, A PRECIOS CORRIENTES EN LA REPÚBLICA, SEGÚN RAMA DE ACTIVIDAD ECONÓMICA:
A3: AÑOS 2018-25
A4: (En millones de balboas)
A6: Código | C6: Valor Bruto de Producción a precios básicos | K6: Variación porcentual
B7: Rama de actividad económica | C7: 2018 | D7: 2019 | E7: 2020 | F7: 2021 | G7: 2022 | H7: 2023 | I7: 2024 (P) | J7: 2025 (E) | K7: 2025-24
A8: A | B8: Agricultura, ganadería, caza, silvicultura, pesca y actividades de servicios conexas | C8: =+SUMIFS(Tabla!$F:$F,Tabla!$A:$A,C$7,Tabla!$D:$D,$A8,Tabla!$G:$G,"C",Tabla!$B:$B,"P00101",Tabla!$E:$E,"00") -> 2696.258 | D8: =+SUMIFS(Tabla!$F:$F,Tabla!$A:$A,D$7,Tabla!$D:$D,$A8,Tabla!$G:$G,"C",Tabla!$B:$B,"P00101",Tabla!$E:$E,"00") -> 2782.0108 | E8: =+SUMIFS(Tabla!$F:$F,Tabla!$A:$A,E$7,Tabla!$D:$D,$A8,Tabla!$G:$G,"C",Tabla!$B:$B,"P00101",Tabla!$E:$E,"00") -> 2779.7245 | F8: =+SUMIFS(Tabla!$F:$F,Tabla!$A:$A,F$7,Tabla!$D:$D,$A8,Tabla!$G:$G,"C",Tabla!$B:$B,"P00101",Tabla!$E:$E,"00") -> 3029.3883 | G8: =+SUMIFS(Tabla!$F:$F,Tabla!$A:$A,G$7,Tabla!$D:$D,$A8,Tabla!$G:$G,"C",Tabla!$B:$B,"P00101",Tabla!$E:$E,"00") -> 3287.0163 | H8: =+SUMIFS(Tabla!$F:$F,Tabla!$A:$A,H$7,Tabla!$D:$D,$A8,Tabla!$G:$G,"C",Tabla!$B:$B,"P00101",Tabla!$E:$E,"00") -> 3395.0292 | I8: =+SUMIFS(Tabla!$F:$F,Tabla!$A:$A,I$7,Tabla!$D:$D,$A8,Tabla!$G:$G,"C",Tabla!$B:$B,"P00101",Tabla!$E:$E,"00") -> 3746.6453 | J8: =+SUMIFS(Tabla!$F:$F,Tabla!$A:$A,J$7,Tabla!$D:$D,$A8,Tabla!$G:$G,"C",Tabla!$B:$B,"P00101",Tabla!$E:$E,"00") -> 3814.2193 | K8: =+J8/I8*100-100 -> 1.8035886
A9: 01.1 | B9: Cultivo de cereales, legumbres y semillas oleaginosas | C9: =+SUMIFS(Tabla!$F:$F,Tabla!$A:$A,C$7,Tabla!$C:$C,$A9,Tabla!$G:$G,"C",Tabla!$B:$B,"P00101",Tabla!$E:$E,"00") -> 21.188942 | D9: =+SUMIFS(Tabla!$F:$F,Tabla!$A:$A,D$7,Tabla!$C:$C,$A9,Tabla!$G:$G,"C",Tabla!$B:$B,"P00101",Tabla!$E:$E,"00") -> 19.697224 | E9: =+SUMIFS(Tabla!$F:$F,Tabla!$A:$A,E$7,Tabla!$C:$C,$A9,Tabla!$G:$G,"C",Tabla!$B:$B,"P00101",Tabla!$E:$E,"00") -> 16.291366 | F9: =+SUMIFS(Tabla!$F:$F,Tabla!$A:$A,F$7,Tabla!$C:$C,$A9,Tabla!$G:$G,"C",Tabla!$B:$B,"P00101",Tabla!$E:$E,"00") -> 17.639796 | G9: =+SUMIFS(Tabla!$F:$F,Tabla!$A:$A,G$7,Tabla!$C:$C,$A9,Tabla!$G:$G,"C",Tabla!$B:$B,"P00101",Tabla!$E:$E,"00") -> 17.112847 | H9: =+SUMIFS(Tabla!$F:$F,Tabla!$A:$A,H$7,Tabla!$C:$C,$A9,Tabla!$G:$G,"C",Tabla!$B:$B,"P00101",Tabla!$E:$E,"00") -> 19.492117 | I9: =+SUMIFS(Tabla!$F:$F,Tabla!$A:$A,I$7,Tabla!$C:$C,$A9,Tabla!$G:$G,"C",Tabla!$B:$B,"P00101",Tabla!$E:$E,"00") -> 21.293702 | J9: =+SUMIFS(Tabla!$F:$F,Tabla!$A:$A,J$7,Tabla!$C:$C,$A9,Tabla!$G:$G,"C",Tabla!$B:$B,"P00101",Tabla!$E:$E,"00") -> 22.976637 | K9: =+J9/I9*100-100 -> 7.9034413
A10: 02.1 | B10: Cultivo de maíz | C10: =+SUMIFS(Tabla!$F:$F,Tabla!$A:$A,C$7,Tabla!$C:$C,$A10,Tabla!$G:$G,"C",Tabla!$B:$B,"P00101",Tabla!$E:$E,"00") -> 92.108985 | D10: =+SUMIFS(Tabla!$F:$F,Tabla!$A:$A,D$7,Tabla!$C:$C,$A10,Tabla!$G:$G,"C",Tabla!$B:$B,"P00101",Tabla!$E:$E,"00") -> 99.524708 | E10: =+SUMIFS(Tabla!$F:$F,Tabla!$A:$A,E$7,Tabla!$C:$C,$A10,Tabla!$G:$G,"C",Tabla!$B:$B,"P00101",Tabla!$E:$E,"00") -> 103.95076 | F10: =+SUMIFS(Tabla!$F:$F,Tabla!$A:$A,F$7,Tabla!$C:$C,$A10,Tabla!$G:$G,"C",Tabla!$B:$B,"P00101",Tabla!$E:$E,"00") -> 108.95466 | G10: =+SUMIFS(Tabla!$F:$F,Tabla!$A:$A,G$7,Tabla!$C:$C,$A10,Tabla!$G:$G,"C",Tabla!$B:$B,"P00101",Tabla!$E:$E,"00") -> 124.21314 | H10: =+SUMIFS(Tabla!$F:$F,Tabla!$A:$A,H$7,Tabla!$C:$C,$A10,Tabla!$G:$G,"C",Tabla!$B:$B,"P00101",Tabla!$E:$E,"00") -> 128.71244 | I10: =+SUMIFS(Tabla!$F:$F,Tabla!$A:$A,I$7,Tabla!$C:$C,$A10,Tabla!$G:$G,"C",Tabla!$B:$B,"P00101",Tabla!$E:$E,"00") -> 138.42536 | J10: =+SUMIFS(Tabla!$F:$F,Tabla!$A:$A,J$7,Tabla!$C:$C,$A10,Tabla!$G:$G,"C",Tabla!$B:$B,"P00101",Tabla!$E:$E,"00") -> 113.56734 | K10: =+J10/I10*100-100 -> -17.957708
A11: 03.1 | B11: Cultivo de arroz | C11: =+SUMIFS(Tabla!$F:$F,Tabla!$A:$A,C$7,Tabla!$C:$C,$A11,Tabla!$G:$G,"C",Tabla!$B:$B,"P00101",Tabla!$E:$E,"00") -> 193.33509 | D11: =+SUMIFS(Tabla!$F:$F,Tabla!$A:$A,D$7,Tabla!$C:$C,$A11,Tabla!$G:$G,"C",Tabla!$B:$B,"P00101",Tabla!$E:$E,"00") -> 204.68329 | E11: =+SUMIFS(Tabla!$F:$F,Tabla!$A:$A,E$7,Tabla!$C:$C,$A11,Tabla!$G:$G,"C",Tabla!$B:$B,"P00101",Tabla!$E:$E,"00") -> 215.77122 | F11: =+SUMIFS(Tabla!$F:$F,Tabla!$A:$A,F$7,Tabla!$C:$C,$A11,Tabla!$G:$G,"C",Tabla!$B:$B,"P00101",Tabla!$E:$E,"00") -> 222.32411 | G11: =+SUMIFS(Tabla!$F:$F,Tabla!$A:$A,G$7,Tabla!$C:$C,$A11,Tabla!$G:$G,"C",Tabla!$B:$B,"P00101",Tabla!$E:$E,"00") -> 245.55371 | H11: =+SUMIFS(Tabla!$F:$F,Tabla!$A:$A,H$7,Tabla!$C:$C,$A11,Tabla!$G:$G,"C",Tabla!$B:$B,"P00101",Tabla!$E:$E,"00") -> 255.33821 | I11: =+SUMIFS(Tabla!$F:$F,Tabla!$A:$A,I$7,Tabla!$C:$C,$A11,Tabla!$G:$G,"C",Tabla!$B:$B,"P00101",Tabla!$E:$E,"00") -> 267.1617 | J11: =+SUMIFS(Tabla!$F:$F,Tabla!$A:$A,J$7,Tabla!$C:$C,$A11,Tabla!$G:$G,"C",Tabla!$B:$B,"P00101",Tabla!$E:$E,"00") -> 269.50403 | K11: =+J11/I11*100-100 -> 0.87674651
A12: 04.1 | B12: Cultivo de vegetales, raíces y tubérculos | C12: =+SUMIFS(Tabla!$F:$F,Tabla!$A:$A,C$7,Tabla!$C:$C,$A12,Tabla!$G:$G,"C",Tabla!$B:$B,"P00101",Tabla!$E:$E,"00") -> 125.33849 | D12: =+SUMIFS(Tabla!$F:$F,Tabla!$A:$A,D$7,Tabla!$C:$C,$A12,Tabla!$G:$G,"C",Tabla!$B:$B,"P00101",Tabla!$E:$E,"00") -> 135.73279 | E12: =+SUMIFS(Tabla!$F:$F,Tabla!$A:$A,E$7,Tabla!$C:$C,$A12,Tabla!$G:$G,"C",Tabla!$B:$B,"P00101",Tabla!$E:$E,"00") -> 140.80743 | F12: =+SUMIFS(Tabla!$F:$F,Tabla!$A:$A,F$7,Tabla!$C:$C,$A12,Tabla!$G:$G,"C",Tabla!$B:$B,"P00101",Tabla!$E:$E,"00") -> 134.36869 | G12: =+SUMIFS(Tabla!$F:$F,Tabla!$A:$A,G$7,Tabla!$C:$C,$A12,Tabla!$G:$G,"C",Tabla!$B:$B,"P00101",Tabla!$E:$E,"00") -> 162.29436 | H12: =+SUMIFS(Tabla!$F:$F,Tabla!$A:$A,H$7,Tabla!$C:$C,$A12,Tabla!$G:$G,"C",Tabla!$B:$B,"P00101",Tabla!$E:$E,"00") -> 170.7061 | I12: =+SUMIFS(Tabla!$F:$F,Tabla!$A:$A,I$7,Tabla!$C:$C,$A12,Tabla!$G:$G,"C",Tabla!$B:$B,"P00101",Tabla!$E:$E,"00") -> 179.79154 | J12: =+SUMIFS(Tabla!$F:$F,Tabla!$A:$A,J$7,Tabla!$C:$C,$A12,Tabla!$G:$G,"C",Tabla!$B:$B,"P00101",Tabla!$E:$E,"00") -> 186.5268 | K12: =+J12/I12*100-100 -> 3.746149
A13: 05.1 | B13: Cultivo de banano | C13: =+SUMIFS(Tabla!$F:$F,Tabla!$A:$A,C$7,Tabla!$C:$C,$A13,Tabla!$G:$G,"C",Tabla!$B:$B,"P00101",Tabla!$E:$E,"00") -> 188.48149 | D13: =+SUMIFS(Tabla!$F:$F,Tabla!$A:$A,D$7,Tabla!$C:$C,$A13,Tabla!$G:$G,"C",Tabla!$B:$B,"P00101",Tabla!$E:$E,"00") -> 240.57914 | E13: =+SUMIFS(Tabla!$F:$F,Tabla!$A:$A,E$7,Tabla!$C:$C,$A13,Tabla!$G:$G,"C",Tabla!$B:$B,"P00101",Tabla!$E:$E,"00") -> 270.20252 | F13: =+SUMIFS(Tabla!$F:$F,Tabla!$A:$A,F$7,Tabla!$C:$C,$A13,Tabla!$G:$G,"C",Tabla!$B:$B,"P00101",Tabla!$E:$E,"00") -> 269.49356 | G13: =+SUMIFS(Tabla!$F:$F,Tabla!$A:$A,G$7,Tabla!$C:$C,$A13,Tabla!$G:$G,"C",Tabla!$B:$B,"P00101",Tabla!$E:$E,"00") -> 255.76138 | H13: =+SUMIFS(Tabla!$F:$F,Tabla!$A:$A,H$7,Tabla!$C:$C,$A13,Tabla!$G:$G,"C",Tabla!$B:$B,"P00101",Tabla!$E:$E,"00") -> 271.57192 | I13: =+SUMIFS(Tabla!$F:$F,Tabla!$A:$A,I$7,Tabla!$C:$C,$A13,Tabla!$G:$G,"C",Tabla!$B:$B,"P00101",Tabla!$E:$E,"00") -> 292.70795 | J13: =+SUMIFS(Tabla!$F:$F,Tabla!$A:$A,J$7,Tabla!$C:$C,$A13,Tabla!$G:$G,"C",Tabla!$B:$B,"P00101",Tabla!$E:$E,"00") -> 202.12667 | K13: =+J13/I13*100-100 -> -30.945957
A14: 06.1 | B14: Cultivo de otras frutas y nueces | C14: =+SUMIFS(Tabla!$F:$F,Tabla!$A:$A,C$7,Tabla!$C:$C,$A14,Tabla!$G:$G,"C",Tabla!$B:$B,"P00101",Tabla!$E:$E,"00") -> 62.801648 | D14: =+SUMIFS(Tabla!$F:$F,Tabla!$A:$A,D$7,Tabla!$C:$C,$A14,Tabla!$G:$G,"C",Tabla!$B:$B,"P00101",Tabla!$E:$E,"00") -> 57.498173 | E14: =+SUMIFS(Tabla!$F:$F,Tabla!$A:$A,E$7,Tabla!$C:$C,$A14,Tabla!$G:$G,"C",Tabla!$B:$B,"P00101",Tabla!$E:$E,"00") -> 51.648958 | F14: =+SUMIFS(Tabla!$F:$F,Tabla!$A:$A,F$7,Tabla!$C:$C,$A14,Tabla!$G:$G,"C",Tabla!$B:$B,"P00101",Tabla!$E:$E,"00") -> 53.85333 | G14: =+SUMIFS(Tabla!$F:$F,Tabla!$A:$A,G$7,Tabla!$C:$C,$A14,Tabla!$G:$G,"C",Tabla!$B:$B,"P00101",Tabla!$E:$E,"00") -> 73.594426 | H14: =+SUMIFS(Tabla!$F:$F,Tabla!$A:$A,H$7,Tabla!$C:$C,$A14,Tabla!$G:$G,"C",Tabla!$B:$B,"P00101",Tabla!$E:$E,"00") -> 65.02436 | I14: =+SUMIFS(Tabla!$F:$F,Tabla!$A:$A,I$7,Tabla!$C:$C,$A14,Tabla!$G:$G,"C",Tabla!$B:$B,"P00101",Tabla!$E:$E,"00") -> 63.79213 | J14: =+SUMIFS(Tabla!$F:$F,Tabla!$A:$A,J$7,Tabla!$C:$C,$A14,Tabla!$G:$G,"C",Tabla!$B:$B,"P00101",Tabla!$E:$E,"00") -> 63.79213 | K14: =+J14/I14*100-100 -> 0
A15: 07.1 | B15: Otras actividades agrícolas | C15: =+SUMIFS(Tabla!$F:$F,Tabla!$A:$A,C$7,Tabla!$C:$C,$A15,Tabla!$G:$G,"C",Tabla!$B:$B,"P00101",Tabla!$E:$E,"00") -> 174.25096 | D15: =+SUMIFS(Tabla!$F:$F,Tabla!$A:$A,D$7,Tabla!$C:$C,$A15,Tabla!$G:$G,"C",Tabla!$B:$B,"P00101",Tabla!$E:$E,"00") -> 167.51517 | E15: =+SUMIFS(Tabla!$F:$F,Tabla!$A:$A,E$7,Tabla!$C:$C,$A15,Tabla!$G:$G,"C",Tabla!$B:$B,"P00101",Tabla!$E:$E,"00") -> 181.65153 | F15: =+SUMIFS(Tabla!$F:$F,Tabla!$A:$A,F$7,Tabla!$C:$C,$A15,Tabla!$G:$G,"C",Tabla!$B:$B,"P00101",Tabla!$E:$E,"00") -> 161.48553 | G15: =+SUMIFS(Tabla!$F:$F,Tabla!$A:$A,G$7,Tabla!$C:$C,$A15,Tabla!$G:$G,"C",Tabla!$B:$B,"P00101",Tabla!$E:$E,"00") -> 172.57421 | H15: =+SUMIFS(Tabla!$F:$F,Tabla!$A:$A,H$7,Tabla!$C:$C,$A15,Tabla!$G:$G,"C",Tabla!$B:$B,"P00101",Tabla!$E:$E,"00") -> 181.86166 | I15: =+SUMIFS(Tabla!$F:$F,Tabla!$A:$A,I$7,Tabla!$C:$C,$A15,Tabla!$G:$G,"C",Tabla!$B:$B,"P00101",Tabla!$E:$E,"00") -> 186.12891 | J15: =+SUMIFS(Tabla!$F:$F,Tabla!$A:$A,J$7,Tabla!$C:$C,$A15,Tabla!$G:$G,"C",Tabla!$B:$B,"P00101",Tabla!$E:$E,"00") -> 186.23391 | K15: =+J15/I15*100-100 -> 0.056412102
A16: 08.1 | B16: Cría de ganado bovino (excluye búfalo) | C16: =+SUMIFS(Tabla!$F:$F,Tabla!$A:$A,C$7,Tabla!$C:$C,$A16,Tabla!$G:$G,"C",Tabla!$B:$B,"P00101",Tabla!$E:$E,"00") -> 441.58492 | D16: =+SUMIFS(Tabla!$F:$F,Tabla!$A:$A,D$7,Tabla!$C:$C,$A16,Tabla!$G:$G,"C",Tabla!$B:$B,"P00101",Tabla!$E:$E,"00") -> 439.20492 | E16: =+SUMIFS(Tabla!$F:$F,Tabla!$A:$A,E$7,Tabla!$C:$C,$A16,Tabla!$G:$G,"C",Tabla!$B:$B,"P00101",Tabla!$E:$E,"00") -> 403.65157 | F16: =+SUMIFS(Tabla!$F:$F,Tabla!$A:$A,F$7,Tabla!$C:$C,$A16,Tabla!$G:$G,"C",Tabla!$B:$B,"P00101",Tabla!$E:$E,"00") -> 452.83108 | G16: =+SUMIFS(Tabla!$F:$F,Tabla!$A:$A,G$7,Tabla!$C:$C,$A16,Tabla!$G:$G,"C",Tabla!$B:$B,"P00101",Tabla!$E:$E,"00") -> 481.52778 | H16: =+SUMIFS(Tabla!$F:$F,Tabla!$A:$A,H$7,Tabla!$C:$C,$A16,Tabla!$G:$G,"C",Tabla!$B:$B,"P00101",Tabla!$E:$E,"00") -> 464.66068 | I16: =+SUMIFS(Tabla!$F:$F,Tabla!$A:$A,I$7,Tabla!$C:$C,$A16,Tabla!$G:$G,"C",Tabla!$B:$B,"P00101",Tabla!$E:$E,"00") -> 476.91282 | J16: =+SUMIFS(Tabla!$F:$F,Tabla!$A:$A,J$7,Tabla!$C:$C,$A16,Tabla!$G:$G,"C",Tabla!$B:$B,"P00101",Tabla!$E:$E,"00") -> 514.09122 | K16: =+J16/I16*100-100 -> 7.7956396
A17: 08.2 | B17: Cría de ganado porcino | C17: =+SUMIFS(Tabla!$F:$F,Tabla!$A:$A,C$7,Tabla!$C:$C,$A17,Tabla!$G:$G,"C",Tabla!$B:$B,"P00101",Tabla!$E:$E,"00") -> 270.08323 | D17: =+SUMIFS(Tabla!$F:$F,Tabla!$A:$A,D$7,Tabla!$C:$C,$A17,Tabla!$G:$G,"C",Tabla!$B:$B,"P00101",Tabla!$E:$E,"00") -> 250.87446 | E17: =+SUMIFS(Tabla!$F:$F,Tabla!$A:$A,E$7,Tabla!$C:$C,$A17,Tabla!$G:$G,"C",Tabla!$B:$B,"P00101",Tabla!$E:$E,"00") -> 258.71057 | F17: =+SUMIFS(Tabla!$F:$F,Tabla!$A:$A,F$7,Tabla!$C:$C,$A17,Tabla!$G:$G,"C",Tabla!$B:$B,"P00101",Tabla!$E:$E,"00") -> 298.45696 | G17: =+SUMIFS(Tabla!$F:$F,Tabla!$A:$A,G$7,Tabla!$C:$C,$A17,Tabla!$G:$G,"C",Tabla!$B:$B,"P00101",Tabla!$E:$E,"00") -> 325.32861 | H17: =+SUMIFS(Tabla!$F:$F,Tabla!$A:$A,H$7,Tabla!$C:$C,$A17,Tabla!$G:$G,"C",Tabla!$B:$B,"P00101",Tabla!$E:$E,"00") -> 332.8341 | I17: =+SUMIFS(Tabla!$F:$F,Tabla!$A:$A,I$7,Tabla!$C:$C,$A17,Tabla!$G:$G,"C",Tabla!$B:$B,"P00101",Tabla!$E:$E,"00") -> 328.1631 | J17: =+SUMIFS(Tabla!$F:$F,Tabla!$A:$A,J$7,Tabla!$C:$C,$A17,Tabla!$G:$G,"C",Tabla!$B:$B,"P00101",Tabla!$E:$E,"00") -> 364.66256 | K17: =+J17/I17*100-100 -> 11.122353
A18: 08.3 | B18: Cría de aves de corral | C18: =+SUMIFS(Tabla!$F:$F,Tabla!$A:$A,C$7,Tabla!$C:$C,$A18,Tabla!$G:$G,"C",Tabla!$B:$B,"P00101",Tabla!$E:$E,"00") -> 522.58283 | D18: =+SUMIFS(Tabla!$F:$F,Tabla!$A:$A,D$7,Tabla!$C:$C,$A18,Tabla!$G:$G,"C",Tabla!$B:$B,"P00101",Tabla!$E:$E,"00") -> 520.20297 | E18: =+SUMIFS(Tabla!$F:$F,Tabla!$A:$A,E$7,Tabla!$C:$C,$A18,Tabla!$G:$G,"C",Tabla!$B:$B,"P00101",Tabla!$E:$E,"00") -> 477.93268 | F18: =+SUMIFS(Tabla!$F:$F,Tabla!$A:$A,F$7,Tabla!$C:$C,$A18,Tabla!$G:$G,"C",Tabla!$B:$B,"P00101",Tabla!$E:$E,"00") -> 561.74694 | G18: =+SUMIFS(Tabla!$F:$F,Tabla!$A:$A,G$7,Tabla!$C:$C,$A18,Tabla!$G:$G,"C",Tabla!$B:$B,"P00101",Tabla!$E:$E,"00") -> 607.829 | H18: =+SUMIFS(Tabla!$F:$F,Tabla!$A:$A,H$7,Tabla!$C:$C,$A18,Tabla!$G:$G,"C",Tabla!$B:$B,"P00101",Tabla!$E:$E,"00") -> 595.81837 | I18: =+SUMIFS(Tabla!$F:$F,Tabla!$A:$A,I$7,Tabla!$C:$C,$A18,Tabla!$G:$G,"C",Tabla!$B:$B,"P00101",Tabla!$E:$E,"00") -> 571.98992 | J18: =+SUMIFS(Tabla!$F:$F,Tabla!$A:$A,J$7,Tabla!$C:$C,$A18,Tabla!$G:$G,"C",Tabla!$B:$B,"P00101",Tabla!$E:$E,"00") -> 601.2295 | K18: =+J18/I18*100-100 -> 5.1119039
B19: Aves de corral | C19: =+SUMIFS(Tabla!$F:$F,Tabla!$A:$A,C7,Tabla!$G:$G,"C",Tabla!$B:$B,"P00101",Tabla!$E:$E,"1203",Tabla!$C:$C,"08.3") -> 437.14732 | D19: =+SUMIFS(Tabla!$F:$F,Tabla!$A:$A,D7,Tabla!$G:$G,"C",Tabla!$B:$B,"P00101",Tabla!$E:$E,"1203",Tabla!$C:$C,"08.3") -> 428.48486 | E19: =+SUMIFS(Tabla!$F:$F,Tabla!$A:$A,E7,Tabla!$G:$G,"C",Tabla!$B:$B,"P00101",Tabla!$E:$E,"1203",Tabla!$C:$C,"08.3") -> 377.9395 | F19: =+SUMIFS(Tabla!$F:$F,Tabla!$A:$A,F7,Tabla!$G:$G,"C",Tabla!$B:$B,"P00101",Tabla!$E:$E,"1203",Tabla!$C:$C,"08.3") -> 465.25282 | G19: =+SUMIFS(Tabla!$F:$F,Tabla!$A:$A,G7,Tabla!$G:$G,"C",Tabla!$B:$B,"P00101",Tabla!$E:$E,"1203",Tabla!$C:$C,"08.3") -> 500.24696 | H19: =+SUMIFS(Tabla!$F:$F,Tabla!$A:$A,H7,Tabla!$G:$G,"C",Tabla!$B:$B,"P00101",Tabla!$E:$E,"1203",Tabla!$C:$C,"08.3") -> 484.89128 | I19: =+SUMIFS(Tabla!$F:$F,Tabla!$A:$A,I7,Tabla!$G:$G,"C",Tabla!$B:$B,"P00101",Tabla!$E:$E,"1203",Tabla!$C:$C,"08.3") -> 465.0831 | J19: =+SUMIFS(Tabla!$F:$F,Tabla!$A:$A,J7,Tabla!$G:$G,"C",Tabla!$B:$B,"P00101",Tabla!$E:$E,"1203",Tabla!$C:$C,"08.3") -> 489.3723 | K19: =+J19/I19*100-100 -> 5.2225502
B20: Huevos | C20: =+SUMIFS(Tabla!$F:$F,Tabla!$A:$A,C7,Tabla!$G:$G,"C",Tabla!$B:$B,"P00101",Tabla!$E:$E,"1302",Tabla!$C:$C,"08.3") -> 85.435505 | D20: =+SUMIFS(Tabla!$F:$F,Tabla!$A:$A,D7,Tabla!$G:$G,"C",Tabla!$B:$B,"P00101",Tabla!$E:$E,"1302",Tabla!$C:$C,"08.3") -> 91.718104 | E20: =+SUMIFS(Tabla!$F:$F,Tabla!$A:$A,E7,Tabla!$G:$G,"C",Tabla!$B:$B,"P00101",Tabla!$E:$E,"1302",Tabla!$C:$C,"08.3") -> 99.993179 | F20: =+SUMIFS(Tabla!$F:$F,Tabla!$A:$A,F7,Tabla!$G:$G,"C",Tabla!$B:$B,"P00101",Tabla!$E:$E,"1302",Tabla!$C:$C,"08.3") -> 96.494127 | G20: =+SUMIFS(Tabla!$F:$F,Tabla!$A:$A,G7,Tabla!$G:$G,"C",Tabla!$B:$B,"P00101",Tabla!$E:$E,"1302",Tabla!$C:$C,"08.3") -> 107.58203 | H20: =+SUMIFS(Tabla!$F:$F,Tabla!$A:$A,H7,Tabla!$G:$G,"C",Tabla!$B:$B,"P00101",Tabla!$E:$E,"1302",Tabla!$C:$C,"08.3") -> 110.92709 | I20: =+SUMIFS(Tabla!$F:$F,Tabla!$A:$A,I7,Tabla!$G:$G,"C",Tabla!$B:$B,"P00101",Tabla!$E:$E,"1302",Tabla!$C:$C,"08.3") -> 106.90682 | J20: =+SUMIFS(Tabla!$F:$F,Tabla!$A:$A,J7,Tabla!$G:$G,"C",Tabla!$B:$B,"P00101",Tabla!$E:$E,"1302",Tabla!$C:$C,"08.3") -> 111.8572 | K20: =+J20/I20*100-100 -> 4.6305528
A21: 08.4 | B21: Cría de otros animales y obtención de subproductos | C21: =+SUMIFS(Tabla!$F:$F,Tabla!$A:$A,C$7,Tabla!$C:$C,$A21,Tabla!$G:$G,"C",Tabla!$B:$B,"P00101",Tabla!$E:$E,"00") -> 9.7198153 | D21: =+SUMIFS(Tabla!$F:$F,Tabla!$A:$A,D$7,Tabla!$C:$C,$A21,Tabla!$G:$G,"C",Tabla!$B:$B,"P00101",Tabla!$E:$E,"00") -> 9.9175153 | E21: =+SUMIFS(Tabla!$F:$F,Tabla!$A:$A,E$7,Tabla!$C:$C,$A21,Tabla!$G:$G,"C",Tabla!$B:$B,"P00101",Tabla!$E:$E,"00") -> 9.2229655 | F21: =+SUMIFS(Tabla!$F:$F,Tabla!$A:$A,F$7,Tabla!$C:$C,$A21,Tabla!$G:$G,"C",Tabla!$B:$B,"P00101",Tabla!$E:$E,"00") -> 9.9492135 | G21: =+SUMIFS(Tabla!$F:$F,Tabla!$A:$A,G$7,Tabla!$C:$C,$A21,Tabla!$G:$G,"C",Tabla!$B:$B,"P00101",Tabla!$E:$E,"00") -> 10.676172 | H21: =+SUMIFS(Tabla!$F:$F,Tabla!$A:$A,H$7,Tabla!$C:$C,$A21,Tabla!$G:$G,"C",Tabla!$B:$B,"P00101",Tabla!$E:$E,"00") -> 10.36978 | I21: =+SUMIFS(Tabla!$F:$F,Tabla!$A:$A,I$7,Tabla!$C:$C,$A21,Tabla!$G:$G,"C",Tabla!$B:$B,"P00101",Tabla!$E:$E,"00") -> 10.575919 | J21: =+SUMIFS(Tabla!$F:$F,Tabla!$A:$A,J$7,Tabla!$C:$C,$A21,Tabla!$G:$G,"C",Tabla!$B:$B,"P00101",Tabla!$E:$E,"00") -> 11.682026 | K21: =+J21/I21*100-100 -> 10.458726
A22: 09.1 | B22: Actividades de apoyo agropecuario | C22: =+SUMIFS(Tabla!$F:$F,Tabla!$A:$A,C$7,Tabla!$C:$C,$A22,Tabla!$G:$G,"C",Tabla!$B:$B,"P00101",Tabla!$E:$E,"00") -> 54.282298 | D22: =+SUMIFS(Tabla!$F:$F,Tabla!$A:$A,D$7,Tabla!$C:$C,$A22,Tabla!$G:$G,"C",Tabla!$B:$B,"P00101",Tabla!$E:$E,"00") -> 55.202852 | E22: =+SUMIFS(Tabla!$F:$F,Tabla!$A:$A,E$7,Tabla!$C:$C,$A22,Tabla!$G:$G,"C",Tabla!$B:$B,"P00101",Tabla!$E:$E,"00") -> 57.637825 | F22: =+SUMIFS(Tabla!$F:$F,Tabla!$A:$A,F$7,Tabla!$C:$C,$A22,Tabla!$G:$G,"C",Tabla!$B:$B,"P00101",Tabla!$E:$E,"00") -> 57.637825 | G22: =+SUMIFS(Tabla!$F:$F,Tabla!$A:$A,G$7,Tabla!$C:$C,$A22,Tabla!$G:$G,"C",Tabla!$B:$B,"P00101",Tabla!$E:$E,"00") -> 58.419813 | H22: =+SUMIFS(Tabla!$F:$F,Tabla!$A:$A,H$7,Tabla!$C:$C,$A22,Tabla!$G:$G,"C",Tabla!$B:$B,"P00101",Tabla!$E:$E,"00") -> 57.580174 | I22: =+SUMIFS(Tabla!$F:$F,Tabla!$A:$A,I$7,Tabla!$C:$C,$A22,Tabla!$G:$G,"C",Tabla!$B:$B,"P00101",Tabla!$E:$E,"00") -> 59.469562 | J22: =+SUMIFS(Tabla!$F:$F,Tabla!$A:$A,J$7,Tabla!$C:$C,$A22,Tabla!$G:$G,"C",Tabla!$B:$B,"P00101",Tabla!$E:$E,"00") -> 61.697535 | K22: =+J22/I22*100-100 -> 3.7464086
A23: 10.1 | B23: Silvicultura, extracción de madera y actividades conexas | C23: =+SUMIFS(Tabla!$F:$F,Tabla!$A:$A,C$7,Tabla!$C:$C,$A23,Tabla!$G:$G,"C",Tabla!$B:$B,"P00101",Tabla!$E:$E,"00") -> 139.19802 | D23: =+SUMIFS(Tabla!$F:$F,Tabla!$A:$A,D$7,Tabla!$C:$C,$A23,Tabla!$G:$G,"C",Tabla!$B:$B,"P00101",Tabla!$E:$E,"00") -> 140.67454 | E23: =+SUMIFS(Tabla!$F:$F,Tabla!$A:$A,E$7,Tabla!$C:$C,$A23,Tabla!$G:$G,"C",Tabla!$B:$B,"P00101",Tabla!$E:$E,"00") -> 140.2568 | F23: =+SUMIFS(Tabla!$F:$F,Tabla!$A:$A,F$7,Tabla!$C:$C,$A23,Tabla!$G:$G,"C",Tabla!$B:$B,"P00101",Tabla!$E:$E,"00") -> 152.28902 | G23: =+SUMIFS(Tabla!$F:$F,Tabla!$A:$A,G$7,Tabla!$C:$C,$A23,Tabla!$G:$G,"C",Tabla!$B:$B,"P00101",Tabla!$E:$E,"00") -> 151.20143 | H23: =+SUMIFS(Tabla!$F:$F,Tabla!$A:$A,H$7,Tabla!$C:$C,$A23,Tabla!$G:$G,"C",Tabla!$B:$B,"P00101",Tabla!$E:$E,"00") -> 151.39062 | I23: =+SUMIFS(Tabla!$F:$F,Tabla!$A:$A,I$7,Tabla!$C:$C,$A23,Tabla!$G:$G,"C",Tabla!$B:$B,"P00101",Tabla!$E:$E,"00") -> 161.49563 | J23: =+SUMIFS(Tabla!$F:$F,Tabla!$A:$A,J$7,Tabla!$C:$C,$A23,Tabla!$G:$G,"C",Tabla!$B:$B,"P00101",Tabla!$E:$E,"00") -> 168.93623 | K23: =+J23/I23*100-100 -> 4.607307
A24: 11.1 | B24: Pesca | C24: =+SUMIFS(Tabla!$F:$F,Tabla!$A:$A,C$7,Tabla!$C:$C,$A24,Tabla!$G:$G,"C",Tabla!$B:$B,"P00101",Tabla!$E:$E,"00") -> 291.05754 | D24: =+SUMIFS(Tabla!$F:$F,Tabla!$A:$A,D$7,Tabla!$C:$C,$A24,Tabla!$G:$G,"C",Tabla!$B:$B,"P00101",Tabla!$E:$E,"00") -> 306.26186 | E24: =+SUMIFS(Tabla!$F:$F,Tabla!$A:$A,E$7,Tabla!$C:$C,$A24,Tabla!$G:$G,"C",Tabla!$B:$B,"P00101",Tabla!$E:$E,"00") -> 326.22412 | F24: =+SUMIFS(Tabla!$F:$F,Tabla!$A:$A,F$7,Tabla!$C:$C,$A24,Tabla!$G:$G,"C",Tabla!$B:$B,"P00101",Tabla!$E:$E,"00") -> 351.35089 | G24: =+SUMIFS(Tabla!$F:$F,Tabla!$A:$A,G$7,Tabla!$C:$C,$A24,Tabla!$G:$G,"C",Tabla!$B:$B,"P00101",Tabla!$E:$E,"00") -> 338.3979 | H24: =+SUMIFS(Tabla!$F:$F,Tabla!$A:$A,H$7,Tabla!$C:$C,$A24,Tabla!$G:$G,"C",Tabla!$B:$B,"P00101",Tabla!$E:$E,"00") -> 430.25154 | I24: =+SUMIFS(Tabla!$F:$F,Tabla!$A:$A,I$7,Tabla!$C:$C,$A24,Tabla!$G:$G,"C",Tabla!$B:$B,"P00101",Tabla!$E:$E,"00") -> 564.647 | J24: =+SUMIFS(Tabla!$F:$F,Tabla!$A:$A,J$7,Tabla!$C:$C,$A24,Tabla!$G:$G,"C",Tabla!$B:$B,"P00101",Tabla!$E:$E,"00") -> 559.49576 | K24: =+J24/I24*100-100 -> -0.91229262
A25: 12.1 | B25: Acuicultura | C25: =+SUMIFS(Tabla!$F:$F,Tabla!$A:$A,C$7,Tabla!$C:$C,$A25,Tabla!$G:$G,"C",Tabla!$B:$B,"P00101",Tabla!$E:$E,"00") -> 110.24373 | D25: =+SUMIFS(Tabla!$F:$F,Tabla!$A:$A,D$7,Tabla!$C:$C,$A25,Tabla!$G:$G,"C",Tabla!$B:$B,"P00101",Tabla!$E:$E,"00") -> 134.44119 | E25: =+SUMIFS(Tabla!$F:$F,Tabla!$A:$A,E$7,Tabla!$C:$C,$A25,Tabla!$G:$G,"C",Tabla!$B:$B,"P00101",Tabla!$E:$E,"00") -> 125.7642 | F25: =+SUMIFS(Tabla!$F:$F,Tabla!$A:$A,F$7,Tabla!$C:$C,$A25,Tabla!$G:$G,"C",Tabla!$B:$B,"P00101",Tabla!$E:$E,"00") -> 177.0067 | G25: =+SUMIFS(Tabla!$F:$F,Tabla!$A:$A,G$7,Tabla!$C:$C,$A25,Tabla!$G:$G,"C",Tabla!$B:$B,"P00101",Tabla!$E:$E,"00") -> 262.53152 | H25: =+SUMIFS(Tabla!$F:$F,Tabla!$A:$A,H$7,Tabla!$C:$C,$A25,Tabla!$G:$G,"C",Tabla!$B:$B,"P00101",Tabla!$E:$E,"00") -> 259.41711 | I25: =+SUMIFS(Tabla!$F:$F,Tabla!$A:$A,I$7,Tabla!$C:$C,$A25,Tabla!$G:$G,"C",Tabla!$B:$B,"P00101",Tabla!$E:$E,"00") -> 424.09003 | J25: =+SUMIFS(Tabla!$F:$F,Tabla!$A:$A,J$7,Tabla!$C:$C,$A25,Tabla!$G:$G,"C",Tabla!$B:$B,"P00101",Tabla!$E:$E,"00") -> 487.69698 | K25: =+J25/I25*100-100 -> 14.998456
A26: NOTA: El código de actividad económica comprende de la categoría según la CIIU (Clasificación Industrial Internacional Uniforme de todas las actividades económicas,
A27: Revisión 4.0) y el código por rama (detalle de actividad económica) según el Cuadro de Oferta y Utilización (COU).
A28: (P) Cifras preliminares.
A29: (E) Cifras estimadas.

Sheet Tabla
A1: Año | B1: Idf_Transaccion | C1: Idf_Actividad | D1: Idf_Categoria | E1: Idf_Producto | F1: Valor | G1: Cou | I1: Contenido
A2: 2018 | B2: P00101 | C2: 01.1 | D2: A | E2: 0102 | F2: 2.1547944 | G2: C
A3: 2018 | B3: P00101 | C3: 01.1 | D3: A | E3: 0103 | F3: 19.034148 | G3: C
A4: 2018 | B4: P00101 | C4: 02.1 | D4: A | E4: 0201 | F4: 92.108985 | G4: C
A5: 2018 | B5: P00101 | C5: 03.1 | D5: A | E5: 0301 | F5: 193.33509 | G5: C
A6: 2018 | B6: P00101 | C6: 04.1 | D6: A | E6: 0401 | F6: 9.4500657 | G6: C
A7: 2018 | B7: P00101 | C7: 04.1 | D7: A | E7: 0402 | F7: 12.726883 | G7: C
A8: 2018 | B8: P00101 | C8: 04.1 | D8: A | E8: 0403 | F8: 8.9855511 | G8: C
A9: 2018 | B9: P00101 | C9: 04.1 | D9: A | E9: 0404 | F9: 18.034298 | G9: C
A10: 2018 | B10: P00101 | C10: 04.1 | D10: A | E10: 0405 | F10: 16.470391 | G10: C
A11: 2018 | B11: P00101 | C11: 04.1 | D11: A | E11: 0406 | F11: 10.767666 | G11: C
A12: 2018 | B12: P00101 | C12: 04.1 | D12: A | E12: 0407 | F12: 21.09562 | G12: C
A13: 2018 | B13: P00101 | C13: 04.1 | D13: A | E13: 0408 | F13: 10.14444 | G13: C
... A13488: 2023 | B13488: P001 | C13488: 00 | D13488: TOTAL | E13488: 6601 | F13488: 314.65249 | G13488: ENC
A13489: 2024 (P) | B13489: P00101 | C13489: 01.1 | D13489: A | E13489: 0102 | F13489: 2.4860171 | G13489: C
A13490: 2024 (P) | B13490: P00101 | C13490: 01.1 | D13490: A | E13490: 0103 | F13490: 18.807685 | G13490: C
A13491: 2024 (P) | B13491: P00101 | C13491: 02.1 | D13491: A | E13491: 0201 | F13491: 138.42536 | G13491: C
A13492: 2024 (P) | B13492: P00101 | C13492: 03.1 | D13492: A | E13492: 0301 | F13492: 267.1617 | G13492: C
A13493: 2024 (P) | B13493: P00101 | C13493: 04.1 | D13493: A | E13493: 0401 | F13493: 20.07934 | G13493: C
A13494: 2024 (P) | B13494: P00101 | C13494: 04.1 | D13494: A | E13494: 0402 | F13494: 27.953503 | G13494: C
A13495: 2024 (P) | B13495: P00101 | C13495: 04.1 | D13495: A | E13495: 0403 | F13495: 9.4373679 | G13495: C
A13496: 2024 (P) | B13496: P00101 | C13496: 04.1 | D13496: A | E13496: 0404 | F13496: 29.126565 | G13496: C
A13497: 2024 (P) | B13497: P00101 | C13497: 04.1 | D13497: A | E13497: 0405 | F13497: 26.417867 | G13497: C
A13498: 2024 (P) | B13498: P00101 | C13498: 04.1 | D13498: A | E13498: 0406 | F13498: 14.678718 | G13498: C
A13499: 2024 (P) | B13499: P00101 | C13499: 04.1 | D13499: A | E13499: 0407 | F13499: 18.161212 | G13499: C
A13500: 2024 (P) | B13500: P00101 | C13500: 04.1 | D13500: A | E13500: 0408 | F13500: 11.984381 | G13500: C
... A17208: 2025 (E) | B17208: P001 | C17208: 00 | D17208: TOTAL | E17208: 6601 | F17208: 340.36931 | G17208: ENC

Sheet Diccionario
A1: DICCIONARIO
A3: PCN - TRANSACCIONES DE CUENTAS NACIONALES
A5: Idf_Transaccion | B5: Transacción
A6: B001 | B6: VALOR AGREGADO BRUTO / PRODUCTO INTERNO BRUTO
A7: B001CTE | B7: VALOR AGREGADO BRUTO / PRODUCTO INTERNO BRUTO - VALORES CORRIENTE
A8: B00101 | B8: VALOR AGREGADO BRUTO / PRODUCTO INTERNO BRUTO - NAEG DE MERCADO
A9: B00102 | B9: VALOR AGREGADO BRUTO / PRODUCTO INTERNO BRUTO - NAEG PARA USO FINAL PROPIO
A10: B00103 | B10: VALOR AGREGADO BRUTO / PRODUCTO INTERNO BRUTO - NAEG DE NO MERCADO
A11: DE | B11: DEMANDA
A12: DEBF | B12: DEMANDA - BASE FIJA
A13: D001 | B13: REMUNERACION DE LOS ASALARIADOS
A14: P001 | B14: PRODUCCION
A15: P00101 | B15: PRODUCCION DE MERCADO
A16: P00102 | B16: PRODUCCION PARA USO FINAL PROPIO
... A27: P007 | B27: IMPORTACIONES
A29: PCN - PRODUCTOS DE CUENTAS NACIONALES
A32: Id_Producto | B32: Producto
A33: CIF_FOB | B33: CIF/FOB SOBRE IMPORTACIONES
A34: P3 | B34: Agrupaciones producto P31 - P32 - P33
A35: P31 | B35: Agrupaciones producto P3 - P31
A36: P31_DURBLS | B36: Agrupaciones producto P3 - P31_DURABLES
A37: P31_NODURB | B37: Agrupaciones producto P3 - P31_NO DURABLES
A38: P31_SEMDRB | B38: Agrupaciones producto P3 - P31_SEMIDURABLES
A39: P31_SERVCS | B39: Agrupaciones producto P3 - P31_SERVICIOS
A40: P32 | B40: Agrupaciones producto P3 - P32
A41: P33 | B41: Agrupaciones producto P3 - P33
A42: P51 | B42: Agrupaciones producto P51 - P51
A43: P6 | B43: Agrupación exportaciones - P6
... A293: 6704 | B293: Compras directas en el territorio nacional por no residentes (viajes)
A295: PCN - ACTIVIDADES ECONOMICAS DE CUENTAS NACIONALES
A298: Id_Actividad | B298: Actividad
A299: B11 | B299: TOTAL VALOR AGREGADO - ACTIVIDADES DE MERCADO
A300: B12 | B300: TOTAL VALOR AGREGADO - ACTIVIDADES DE USO FINAL PROPIO
A301: B13 | B301: TOTAL VALOR AGREGADO - ACTIVIDADES DE NO DE MERCADO
A302: D211 | B302: D.211 - ITBMS
A303: D212 | B303: D.212 - IMPUESTOS Y DERECHOS
A304: D214 | B304: D.214 - IMPUESTOS SOBRE PRODUCTOS
A305: D31 | B305: D.31 - SUBSIDIOS SOBRE LOS PRODUCTOS
A306: GR_A | B306: AGRICULTURA, GANADERÍA, CAZA, SILVICULTURA, PESCA Y ACTIVIDADES DE SERVICIOS CONEXAS
A307: GR_B | B307: EXPLOTACIÓN DE MINAS Y CANTERAS
...
